BEGIN:VCALENDAR
VERSION:2.0
PRODID:-//Tukios.com/
BEGIN:VEVENT
UID:00c8017c-dd52-4751-8b6d-cd2cff9bc2fa@www.palmswestfuneralhome.com
DTSTAMP:20260424T223811Z
DTSTART:20260427T183000Z
DTEND:20260427T193000Z
SUMMARY:Graveside Service
DESCRIPTION:
URL:https://www.palmswestfuneralhome.com/obituaries/taryn-loverso
LOCATION: 10941 Southern Blvd  Royal Palm Beach FL 33411
GEO:26.6814925;-80.2176622
END:VEVENT
END:VCALENDAR