BEGIN:VCALENDAR
VERSION:2.0
PRODID:-//Tukios.com/
BEGIN:VEVENT
UID:64c2a80a-7470-4f31-83b8-49c2af8e4a25@www.palmswestfuneralhome.com
DTSTAMP:20260424T223633Z
DTSTART:20260427T170000Z
DTEND:20260427T180000Z
SUMMARY:Mass
DESCRIPTION:
URL:https://www.palmswestfuneralhome.com/obituaries/taryn-loverso
LOCATION: 11800 Lake Worth Rd  Wellington FL 33449
GEO:26.6205712;-80.2352874
END:VEVENT
END:VCALENDAR