BEGIN:VCALENDAR
VERSION:2.0
PRODID:-//Tukios.com/
BEGIN:VEVENT
UID:289f37f8-d8e1-4814-ae94-2e2aada1f4fb@www.palmswestfuneralhome.com
DTSTAMP:20260424T223834Z
DTSTART:20260426T220000Z
DTEND:20260426T230000Z
SUMMARY:Wake Service
DESCRIPTION:
URL:https://www.palmswestfuneralhome.com/obituaries/taryn-loverso
LOCATION: 110 Business Park Way  Royal Palm Beach FL 33411
GEO:26.698892;-80.202039
END:VEVENT
END:VCALENDAR