BEGIN:VCALENDAR
VERSION:2.0
PRODID:-//Tukios.com/
BEGIN:VEVENT
UID:c8372e93-8a92-4902-9a68-e39ec3cb5228@www.palmswestfuneralhome.com
DTSTAMP:20260424T223219Z
DTSTART:20260426T200000Z
DTEND:20260426T220000Z
SUMMARY:Visitation
DESCRIPTION:
URL:https://www.palmswestfuneralhome.com/obituaries/taryn-loverso
LOCATION: 110 Business Park Way  Royal Palm Beach FL 33411
GEO:26.698892;-80.202039
END:VEVENT
END:VCALENDAR