BEGIN:VCALENDAR
VERSION:2.0
PRODID:-//Tukios.com/
BEGIN:VEVENT
UID:1af3c93b-5c9f-47ba-9a5e-a17dfc546fd4@www.palmswestfuneralhome.com
DTSTAMP:20260421T005603Z
DTSTART:20260426T130000Z
DTEND:20260426T160000Z
SUMMARY:Funeral Service
DESCRIPTION:
URL:https://www.palmswestfuneralhome.com/obituaries/tamadree-persaud
LOCATION: 110 Business Park Way  Royal Palm Beach FL 33411
GEO:26.698892;-80.202039
END:VEVENT
END:VCALENDAR