BEGIN:VCALENDAR
VERSION:2.0
PRODID:-//Tukios.com/
BEGIN:VEVENT
UID:4eb4b20f-6afa-479d-9756-e9223121ef5c@www.palmswestfuneralhome.com
DTSTAMP:20260421T004859Z
DTSTART:20260425T210000Z
DTEND:20260426T000000Z
SUMMARY:Visitation
DESCRIPTION:
URL:https://www.palmswestfuneralhome.com/obituaries/tamadree-persaud
LOCATION: 110 Business Park Way  Royal Palm Beach FL 33411
GEO:26.698892;-80.202039
END:VEVENT
END:VCALENDAR