BEGIN:VCALENDAR
VERSION:2.0
PRODID:-//Tukios.com/
BEGIN:VEVENT
UID:91a1c869-3291-473b-a667-df7374c9c990@www.palmswestfuneralhome.com
DTSTAMP:20260419T175252Z
DTSTART:20260503T200000Z
DTEND:20260503T210000Z
SUMMARY:Memorial Service
DESCRIPTION:
URL:https://www.palmswestfuneralhome.com/obituaries/edward-nichols
LOCATION: 110 Business Park Way  Royal Palm Beach FL 33411
GEO:26.698892;-80.202039
END:VEVENT
END:VCALENDAR