BEGIN:VCALENDAR
VERSION:2.0
PRODID:-//Tukios.com/
BEGIN:VEVENT
UID:e2c9dd22-b6af-45ca-bde7-a9a85e25e2ba@www.palmswestfuneralhome.com
DTSTAMP:20260419T174136Z
DTSTART:20260503T190000Z
DTEND:20260503T220000Z
SUMMARY:Memorial Gathering
DESCRIPTION:
URL:https://www.palmswestfuneralhome.com/obituaries/edward-nichols
LOCATION: 110 Business Park Way  Royal Palm Beach FL 33411
GEO:26.698892;-80.202039
END:VEVENT
END:VCALENDAR