BEGIN:VCALENDAR
VERSION:2.0
PRODID:-//Tukios.com/
BEGIN:VEVENT
UID:b3e4c70c-33af-4b20-a45f-b315cd846caa@www.palmswestfuneralhome.com
DTSTAMP:20260420T181755Z
DTSTART:20260509T183000Z
DTEND:20260509T193000Z
SUMMARY:Burial
DESCRIPTION:
URL:https://www.palmswestfuneralhome.com/obituaries/claude-burrowes
LOCATION: 10941 Southern Blvd  Royal Palm Beach FL 33411
GEO:26.6814925;-80.2176622
END:VEVENT
END:VCALENDAR