BEGIN:VCALENDAR
VERSION:2.0
PRODID:-//Tukios.com/
BEGIN:VEVENT
UID:c7629a11-e8d1-492f-a336-de795d591ea9@www.palmswestfuneralhome.com
DTSTAMP:20260420T181613Z
DTSTART:20260509T170000Z
DTEND:20260509T181500Z
SUMMARY:Visitation
DESCRIPTION:
URL:https://www.palmswestfuneralhome.com/obituaries/claude-burrowes
LOCATION: 110 Business Park Way  Royal Palm Beach FL 33411
GEO:26.698892;-80.202039
END:VEVENT
END:VCALENDAR