BEGIN:VCALENDAR
VERSION:2.0
PRODID:-//Tukios.com/
BEGIN:VEVENT
UID:4ae6ea77-4738-479b-8bce-96cfdb20cff2@www.palmswestfuneralhome.com
DTSTAMP:20260420T182416Z
DTSTART:20260502T180000Z
DTEND:20260502T200000Z
SUMMARY:Visitation
DESCRIPTION:
URL:https://www.palmswestfuneralhome.com/obituaries/claude-burrowes
LOCATION: 110 Business Park Way  Royal Palm Beach FL 33411
GEO:26.698892;-80.202039
END:VEVENT
END:VCALENDAR