BEGIN:VCALENDAR
VERSION:2.0
PRODID:-//Tukios.com/
BEGIN:VEVENT
UID:246ec895-e18b-4a03-9880-5e8e3698b862@www.palmswestfuneralhome.com
DTSTAMP:20260419T202750Z
DTSTART:20260522T170000Z
DTEND:20260522T180000Z
SUMMARY:Funeral Service
DESCRIPTION:
URL:https://www.palmswestfuneralhome.com/obituaries/adean-fearing
LOCATION: 110 Business Park Way  Royal Palm Beach FL 33411
GEO:26.698892;-80.202039
END:VEVENT
END:VCALENDAR