BEGIN:VCALENDAR
VERSION:2.0
PRODID:-//Tukios.com/
BEGIN:VEVENT
UID:631a0b4d-5dbf-442b-97d3-716b35ded6f0@www.palmswestfuneralhome.com
DTSTAMP:20260419T202811Z
DTSTART:20260522T160000Z
DTEND:20260522T200000Z
SUMMARY:Visitation
DESCRIPTION:
URL:https://www.palmswestfuneralhome.com/obituaries/adean-fearing
LOCATION: 110 Business Park Way  Royal Palm Beach FL 33411
GEO:26.698892;-80.202039
END:VEVENT
END:VCALENDAR